BEGIN:VCALENDAR
VERSION:2.0
PRODID:-//The Andy Warhol Museum - ECPv6.15.18//NONSGML v1.0//EN
CALSCALE:GREGORIAN
METHOD:PUBLISH
X-WR-CALNAME:The Andy Warhol Museum
X-ORIGINAL-URL:https://www.warhol.org
X-WR-CALDESC:Events for The Andy Warhol Museum
REFRESH-INTERVAL;VALUE=DURATION:PT1H
X-Robots-Tag:noindex
X-PUBLISHED-TTL:PT1H
BEGIN:VTIMEZONE
TZID:America/New_York
BEGIN:DAYLIGHT
TZOFFSETFROM:-0500
TZOFFSETTO:-0400
TZNAME:EDT
DTSTART:20250309T070000
END:DAYLIGHT
BEGIN:STANDARD
TZOFFSETFROM:-0400
TZOFFSETTO:-0500
TZNAME:EST
DTSTART:20251102T060000
END:STANDARD
BEGIN:DAYLIGHT
TZOFFSETFROM:-0500
TZOFFSETTO:-0400
TZNAME:EDT
DTSTART:20260308T070000
END:DAYLIGHT
BEGIN:STANDARD
TZOFFSETFROM:-0400
TZOFFSETTO:-0500
TZNAME:EST
DTSTART:20261101T060000
END:STANDARD
BEGIN:DAYLIGHT
TZOFFSETFROM:-0500
TZOFFSETTO:-0400
TZNAME:EDT
DTSTART:20270314T070000
END:DAYLIGHT
BEGIN:STANDARD
TZOFFSETFROM:-0400
TZOFFSETTO:-0500
TZNAME:EST
DTSTART:20271107T060000
END:STANDARD
END:VTIMEZONE
BEGIN:VEVENT
DTSTART;TZID=America/New_York:20260521T173000
DTEND;TZID=America/New_York:20260521T193000
DTSTAMP:20260421T002805
CREATED:20260327T184632Z
LAST-MODIFIED:20260330T193109Z
UID:10001734-1779384600-1779391800@www.warhol.org
SUMMARY:The Network Factory XII: Art & Entrepreneurship
DESCRIPTION:Join The Warhol Academy for an insightful discussion on becoming an entrepreneur in the arts! Explore the struggles and hacks of working for yourself in a lane of one’s own choosing. Learn how these professionals have built their own company\, brand\, following\, and/or loyal customer base. Our panelists will discuss their POV on establishing a business\, marketing\, and the lesser seen labor of accounting\, finance and creating a digital presence. Artists\, entrepreneurs and anyone who leans towards a creative persuasion will benefit from the topics and tasks covered with Pittsburgh’s own creative business owners. You’ll leave with actionable steps to funnel your ideas into a sustainable career.  \nSpecial guest panelists: \n\nMorgan Overton\, artist\, founder & owner of Morgan Overton Art Gallery\nCandace Jane Opper\, finance & operations director of Casey Droege Cultural Productions and owner of Fringe Benefits Bookkeeping\nElisa Cevallos\, photographer & owner of South Breeze Photography\nRyan McLennan\, owner of Bottom Feeder Books\nRich Cefalo\, Clearview AVP of business lending & services\nRian-Louis (moderator)\, host of Rian Out Loud podcast\n\nA Q&A will follow the panel discussion along with an hour of mingling with the audience. \nThe Warhol Academy operates education and opportunity programming with a focus on creative workforce growth and expansion guided by a collaborative\, Warholian perspective. \nSpace is limited and registration is required. \n\nDoors open at 5 p.m.
URL:https://www.warhol.org/events/the-network-factory-xii-art-entrepreneurship/
LOCATION:The Warhol theater\, 117 Sandusky Street\, Pittsburgh\, PA\, 15212\, United States
CATEGORIES:Free and Reduced,Lectures and Discussions
ATTACH;FMTTYPE=image/png:https://www.warhol.org/wp-content/uploads/2026/03/Network-Factory-XII-–-March-2026-6-Website-Hero_2.png
GEO:40.4483755;-80.0024907
X-APPLE-STRUCTURED-LOCATION;VALUE=URI;X-ADDRESS=The Warhol theater 117 Sandusky Street Pittsburgh PA 15212 United States;X-APPLE-RADIUS=500;X-TITLE=117 Sandusky Street:geo:-80.0024907,40.4483755
END:VEVENT
END:VCALENDAR