BEGIN:VCALENDAR
VERSION:2.0
PRODID:-//The Andy Warhol Museum - ECPv6.15.18//NONSGML v1.0//EN
CALSCALE:GREGORIAN
METHOD:PUBLISH
X-ORIGINAL-URL:https://www.warhol.org
X-WR-CALDESC:Events for The Andy Warhol Museum
REFRESH-INTERVAL;VALUE=DURATION:PT1H
X-Robots-Tag:noindex
X-PUBLISHED-TTL:PT1H
BEGIN:VTIMEZONE
TZID:America/New_York
BEGIN:DAYLIGHT
TZOFFSETFROM:-0500
TZOFFSETTO:-0400
TZNAME:EDT
DTSTART:20250309T070000
END:DAYLIGHT
BEGIN:STANDARD
TZOFFSETFROM:-0400
TZOFFSETTO:-0500
TZNAME:EST
DTSTART:20251102T060000
END:STANDARD
BEGIN:DAYLIGHT
TZOFFSETFROM:-0500
TZOFFSETTO:-0400
TZNAME:EDT
DTSTART:20260308T070000
END:DAYLIGHT
BEGIN:STANDARD
TZOFFSETFROM:-0400
TZOFFSETTO:-0500
TZNAME:EST
DTSTART:20261101T060000
END:STANDARD
BEGIN:DAYLIGHT
TZOFFSETFROM:-0500
TZOFFSETTO:-0400
TZNAME:EDT
DTSTART:20270314T070000
END:DAYLIGHT
BEGIN:STANDARD
TZOFFSETFROM:-0400
TZOFFSETTO:-0500
TZNAME:EST
DTSTART:20271107T060000
END:STANDARD
END:VTIMEZONE
BEGIN:VEVENT
DTSTART;TZID=America/New_York:20260509T180000
DTEND;TZID=America/New_York:20260509T210000
DTSTAMP:20260422T163855
CREATED:20260327T181804Z
LAST-MODIFIED:20260420T184103Z
UID:10001735-1778349600-1778360400@www.warhol.org
SUMMARY:A Julia Warhola Mother’s Day
DESCRIPTION:Members are invited to join Carnegie Museums to celebrate Mother’s Day the Julia Warhola way.  \nHaving artistic inclinations of her own\, Julia Warhola recognized her son’s talent early on and encouraged him in various art activities. They frequently collaborated on his art projects\, with Julia contributing her unique handwriting to Warhol’s drawings\, most often as the signature. Mingle with fellow members over light refreshments\, food and activities! \n*Refreshments\, food\, and giveaways available while supplies last.
URL:https://www.warhol.org/events/a-julia-warhola-mothers-day/
LOCATION:The Andy Warhol Museum\, 117 Sandusky Street\, Pittsburgh\, PA\, 15212\, United States
CATEGORIES:Members
ATTACH;FMTTYPE=image/jpeg:https://www.warhol.org/wp-content/uploads/2026/03/5.9-Julia-Warhola-Hero-Image.jpg
END:VEVENT
BEGIN:VEVENT
DTSTART;TZID=America/New_York:20260713T090000
DTEND;TZID=America/New_York:20260713T120000
DTSTAMP:20260422T163855
CREATED:20260408T183914Z
LAST-MODIFIED:20260413T174909Z
UID:10001764-1783933200-1783944000@www.warhol.org
SUMMARY:Senior Social: Pop Generation
DESCRIPTION:Senior Social: Pop Generation is a series of events recommended for members ages 65 and over. Join our staff throughout the year\, for lectures\, artmaking activities\, and gallery talks that utilize the museum’s one-of-a-kind collection and special exhibitions. \nThis edition of Senior Social: Pop Generation will highlight our exhibition\, Sharif Bey: Homecoming. Meet and mingle over refreshments\, explore the collection of The Andy Warhol Museum\, and enjoy a lecture about Andy Warhol’s sculptures. This event is free for Carnegie Museums members. \n\nDoors open at 9 a.m.
URL:https://www.warhol.org/events/senior-social-pop-generation-2/
LOCATION:The Andy Warhol Museum\, 117 Sandusky Street\, Pittsburgh\, PA\, 15212\, United States
CATEGORIES:Members,Seniors,Talks and Tours
ATTACH;FMTTYPE=image/jpeg:https://www.warhol.org/wp-content/uploads/2025/03/061625-Pop-Generation-Senior-Social-1-by-Bryan-Conley.jpg
END:VEVENT
END:VCALENDAR