BEGIN:VCALENDAR
VERSION:2.0
PRODID:-//The Andy Warhol Museum - ECPv6.15.18//NONSGML v1.0//EN
CALSCALE:GREGORIAN
METHOD:PUBLISH
X-WR-CALNAME:The Andy Warhol Museum
X-ORIGINAL-URL:https://www.warhol.org
X-WR-CALDESC:Events for The Andy Warhol Museum
REFRESH-INTERVAL;VALUE=DURATION:PT1H
X-Robots-Tag:noindex
X-PUBLISHED-TTL:PT1H
BEGIN:VTIMEZONE
TZID:America/New_York
BEGIN:DAYLIGHT
TZOFFSETFROM:-0500
TZOFFSETTO:-0400
TZNAME:EDT
DTSTART:20250309T070000
END:DAYLIGHT
BEGIN:STANDARD
TZOFFSETFROM:-0400
TZOFFSETTO:-0500
TZNAME:EST
DTSTART:20251102T060000
END:STANDARD
BEGIN:DAYLIGHT
TZOFFSETFROM:-0500
TZOFFSETTO:-0400
TZNAME:EDT
DTSTART:20260308T070000
END:DAYLIGHT
BEGIN:STANDARD
TZOFFSETFROM:-0400
TZOFFSETTO:-0500
TZNAME:EST
DTSTART:20261101T060000
END:STANDARD
BEGIN:DAYLIGHT
TZOFFSETFROM:-0500
TZOFFSETTO:-0400
TZNAME:EDT
DTSTART:20270314T070000
END:DAYLIGHT
BEGIN:STANDARD
TZOFFSETFROM:-0400
TZOFFSETTO:-0500
TZNAME:EST
DTSTART:20271107T060000
END:STANDARD
END:VTIMEZONE
BEGIN:VEVENT
DTSTART;TZID=America/New_York:20260508T170000
DTEND;TZID=America/New_York:20260508T220000
DTSTAMP:20260424T070916
CREATED:20260212T170211Z
LAST-MODIFIED:20260420T182822Z
UID:10001267-1778259600-1778277600@www.warhol.org
SUMMARY:Youth Invasion 2026: America Rewritten
DESCRIPTION:Join us for our annual teen takeover of The Warhol! \nYouth Invasion 2026: America Rewritten is a night led by our Youth Arts Council celebrating 250 years of youth and revolt. Participate in the counterculture by enjoying live music\, performance\, silkscreen printing\, and a special murder mystery. Tickets for Youth Invasion are free when you register for a free teen membership. Please note the museum will be open to the general public during this event as part of our normal Friday evening operating hours.
URL:https://www.warhol.org/events/youth-invasion-2026/
CATEGORIES:Social
ATTACH;FMTTYPE=image/jpeg:https://www.warhol.org/wp-content/uploads/2026/02/5.8.2026_YouthInvaion_1.jpg
END:VEVENT
BEGIN:VEVENT
DTSTART;TZID=America/New_York:20260613T180000
DTEND;TZID=America/New_York:20260613T220000
DTSTAMP:20260424T070916
CREATED:20260212T170211Z
LAST-MODIFIED:20260413T153112Z
UID:10000013-1781373600-1781388000@www.warhol.org
SUMMARY:LGBTQ+ Youth Prom: Fancy That!: An Unmasquerade
DESCRIPTION:We cordially invite you to shed your mask at Fancy That!: An Unmasquerade\, our 12th annual LGBTQ+ Youth Prom! Step into a world of intrigue and elegance\, where the most important accessory is your true self. Whether you choose an exquisite costume fit for royalty or modern prom attire\, you will revel in a space that celebrates the joy of authenticity. As the largest affirming prom in Southwestern Pennsylvania\, we are proud to offer this inclusive party that provides every young person the chance to make their prom night a treasured memory. Prom is open to all youth ages 13-18 regardless of how they identify and includes dinner\, dancing\, art activities\, and much more. \nTeens who attend one of our LGBTQ+ Youth Prom Planning Meetings will receive two reserved tickets.
URL:https://www.warhol.org/events/lgbtq-youth-prom-2026/
LOCATION:The Andy Warhol Museum\, 117 Sandusky Street\, Pittsburgh\, PA\, 15212\, United States
CATEGORIES:Free and Reduced,LGBTQ+,Social,Teens
ATTACH;FMTTYPE=image/jpeg:https://www.warhol.org/wp-content/uploads/2025/12/061326-LGBTQ-Youth-Prom-1.jpg
END:VEVENT
BEGIN:VEVENT
DTSTART;TZID=America/New_York:20260626T190000
DTEND;TZID=America/New_York:20260626T210000
DTSTAMP:20260424T070916
CREATED:20260323T211821Z
LAST-MODIFIED:20260420T160311Z
UID:10001613-1782500400-1782507600@www.warhol.org
SUMMARY:Sharif Bey: Homecoming Opening Reception
DESCRIPTION:Join us for a public reception celebrating the exhibition Sharif Bey: Homecoming. Sharif Bey\, a Pittsburgh-born ceramic artist\, sculptor and educator creates complex sculptures inspired by modernism\, functional pottery\, and Oceanic and African art. His monumental ceramic sculptures will be exhibited alongside artwork by Andy Warhol and Jean-Michel Basquiat from our permanent collection All three artists engage deeply with themes of identity\, culture\, and societal commentary\, and their shared and diverging histories create dynamic dialogues on the complexity of American art.  \nHomecoming celebrates community arts education and highlights Pittsburgh’s enduring role as a crucible for artistic innovation\, continuing the city’s rich tradition of supporting local communities and artists—an essential factor in Sharif Bey’s development and emergence as a significant voice in contemporary art. \nLive music by Bey’s cousin\, Ublai Bey and his band\, Timeless.
URL:https://www.warhol.org/events/sharif-bey-homecoming-opening-reception/
LOCATION:The Andy Warhol Museum\, 117 Sandusky Street\, Pittsburgh\, PA\, 15212\, United States
CATEGORIES:Social
ATTACH;FMTTYPE=image/jpeg:https://www.warhol.org/wp-content/uploads/2026/01/Bey_Domestic-Queen.jpg
END:VEVENT
END:VCALENDAR