BEGIN:VCALENDAR
VERSION:2.0
PRODID:-//The Andy Warhol Museum - ECPv6.15.18//NONSGML v1.0//EN
CALSCALE:GREGORIAN
METHOD:PUBLISH
X-WR-CALNAME:The Andy Warhol Museum
X-ORIGINAL-URL:https://www.warhol.org
X-WR-CALDESC:Events for The Andy Warhol Museum
REFRESH-INTERVAL;VALUE=DURATION:PT1H
X-Robots-Tag:noindex
X-PUBLISHED-TTL:PT1H
BEGIN:VTIMEZONE
TZID:America/New_York
BEGIN:DAYLIGHT
TZOFFSETFROM:-0500
TZOFFSETTO:-0400
TZNAME:EDT
DTSTART:20100314T070000
END:DAYLIGHT
BEGIN:STANDARD
TZOFFSETFROM:-0400
TZOFFSETTO:-0500
TZNAME:EST
DTSTART:20101107T060000
END:STANDARD
BEGIN:DAYLIGHT
TZOFFSETFROM:-0500
TZOFFSETTO:-0400
TZNAME:EDT
DTSTART:20110313T070000
END:DAYLIGHT
BEGIN:STANDARD
TZOFFSETFROM:-0400
TZOFFSETTO:-0500
TZNAME:EST
DTSTART:20111106T060000
END:STANDARD
BEGIN:DAYLIGHT
TZOFFSETFROM:-0500
TZOFFSETTO:-0400
TZNAME:EDT
DTSTART:20120311T070000
END:DAYLIGHT
BEGIN:STANDARD
TZOFFSETFROM:-0400
TZOFFSETTO:-0500
TZNAME:EST
DTSTART:20121104T060000
END:STANDARD
BEGIN:DAYLIGHT
TZOFFSETFROM:-0500
TZOFFSETTO:-0400
TZNAME:EDT
DTSTART:20130310T070000
END:DAYLIGHT
BEGIN:STANDARD
TZOFFSETFROM:-0400
TZOFFSETTO:-0500
TZNAME:EST
DTSTART:20131103T060000
END:STANDARD
BEGIN:DAYLIGHT
TZOFFSETFROM:-0500
TZOFFSETTO:-0400
TZNAME:EDT
DTSTART:20140309T070000
END:DAYLIGHT
BEGIN:STANDARD
TZOFFSETFROM:-0400
TZOFFSETTO:-0500
TZNAME:EST
DTSTART:20141102T060000
END:STANDARD
BEGIN:DAYLIGHT
TZOFFSETFROM:-0500
TZOFFSETTO:-0400
TZNAME:EDT
DTSTART:20150308T070000
END:DAYLIGHT
BEGIN:STANDARD
TZOFFSETFROM:-0400
TZOFFSETTO:-0500
TZNAME:EST
DTSTART:20151101T060000
END:STANDARD
END:VTIMEZONE
BEGIN:VEVENT
DTSTART;TZID=America/New_York:20141107T170000
DTEND;TZID=America/New_York:20141107T190000
DTSTAMP:20260421T173744
CREATED:20260305T150215Z
LAST-MODIFIED:20260305T150510Z
UID:10001325-1415379600-1415386800@www.warhol.org
SUMMARY:M . e . :this hood 
DESCRIPTION:The Andy Warhol Museum presents the Homewood Artist Residency with \n \nStaycee Pearl at the Greater Pittsburgh Coliseum. Opening & Community Celebration on Friday\, November 7\, 2014 from 5:00 to 7:00pm. \n  \nThe Homewood Artist Residency program is a collaboration between The Andy Warhol Museum and Pittsburgh Westinghouse 6-12. This residency is part of a larger arts based initiative in Homewood intended to increase cultural opportunities for students and their families in the community. The goals of these programs are to support African-American artists in Pittsburgh and to use the arts as a tool to foster community vitality and support educational achievement in Homewood. Staycee Pearl is the second artist in resident at Westinghouse Academy and began working with the students in March 2014. \nStaycee Pearl earned a BFA in Studio Arts with a minor in Africana Studies from the University of Pittsburgh.  Staycee has spent several years honing her skills in choreography\, visual art\, literature\, installation\, and media arts\, while examining community\, culture and history. Staycee’s continued education experiences include local and national programs. In 2005\, she was honored with a choreographic fellowship through Summer Stages Dance at Concord Academy in Concord Mass\, under the tutelage of Gus Solomon\, and Richard Colton. She has been mentored by Urban Bush Woman’s Jawole Willa Jo Zollar\, participating as a fellow with the Summer Leadership Institute: Place Matters in 2006. \n  \nStaycee will be exhibiting the first installation in a series called M . e . Morphing environments\, a series of works demonstrating changing communities. The piece :this hood is a multimedia installation documenting the changes in Homewood\, representing a perspective inspired by Westinghouse students and an imagined outcome versus the typical result of gentrification.
URL:https://www.warhol.org/events/m-e-this-hood/
LOCATION:The Greater Pittsburgh Coliseum (Homewood)\, Frankstown Avenue\, Pittsburgh\, PA\, United States
ATTACH;FMTTYPE=image/jpeg:https://www.warhol.org/wp-content/uploads/2017/01/homewoodAIR-thumb.jpg
GEO:40.4573715;-79.8976428
X-APPLE-STRUCTURED-LOCATION;VALUE=URI;X-ADDRESS=The Greater Pittsburgh Coliseum (Homewood) Frankstown Avenue Pittsburgh PA United States;X-APPLE-RADIUS=500;X-TITLE=Frankstown Avenue:geo:-79.8976428,40.4573715
END:VEVENT
BEGIN:VEVENT
DTSTART;TZID=America/New_York:20110430T120000
DTEND;TZID=America/New_York:20110430T160000
DTSTAMP:20260421T173745
CREATED:20260317T144931Z
LAST-MODIFIED:20260317T181927Z
UID:10001480-1304164800-1304179200@www.warhol.org
SUMMARY:UNVEILING HOME
DESCRIPTION:The Warhol’s new artist-in-residence program\, HOMEWOOD Artist Residency\, will be unveiling HOME a large-scale installation created by the first residents and Homewood artists Tina Brewer and Vanessa German. It will be an afternoon of food and entertainment in celebration of Homewood’s creative spirit. Students from Lincoln High School will be performing poetry developed with Vanessa German. HOMEWOOD is generously supported by a Seed Award from The Sprout Fund.
URL:https://www.warhol.org/events/unveiling-home/
LOCATION:The Greater Pittsburgh Coliseum (Homewood)\, Frankstown Avenue\, Pittsburgh\, PA\, United States
CATEGORIES:Performance,Social
ATTACH;FMTTYPE=image/jpeg:https://www.warhol.org/wp-content/uploads/2017/01/CAL_20110328_homewoodproject_main.jpg
GEO:40.4573715;-79.8976428
X-APPLE-STRUCTURED-LOCATION;VALUE=URI;X-ADDRESS=The Greater Pittsburgh Coliseum (Homewood) Frankstown Avenue Pittsburgh PA United States;X-APPLE-RADIUS=500;X-TITLE=Frankstown Avenue:geo:-79.8976428,40.4573715
END:VEVENT
END:VCALENDAR